BEGIN:VCALENDAR
VERSION:2.0
PRODID:-//Plone.org//NONSGML plone.app.event//EN
X-WR-TIMEZONE:Europe/Madrid
BEGIN:VEVENT
SUMMARY:Botifarrada popular
DTSTART;TZID=Europe/Madrid;VALUE=DATE-TIME:20090423T210000
DTEND;TZID=Europe/Madrid;VALUE=DATE-TIME:20090423T220000
DTSTAMP;VALUE=DATE-TIME:20260423T134340Z
UID:c7e349715ab9ac4a8dbd625cc1192e1d
CREATED;VALUE=DATE-TIME:20090423T000000Z
CATEGORIES:Festa
LOCATION:Plaça de l'Església - Plaça de l'Església
ORGANIZER:AEG Flos i Calcat i Regidoria de Cultura
URL:https://arenysdemar.cat/document.php?id=19836
END:VEVENT
END:VCALENDAR