BEGIN:VCALENDAR
VERSION:2.0
PRODID:-//Plone.org//NONSGML plone.app.event//EN
X-WR-TIMEZONE:Europe/Madrid
BEGIN:VEVENT
SUMMARY:Hora del conte
DTSTART;TZID=Europe/Madrid;VALUE=DATE-TIME:20090319T180000
DTEND;TZID=Europe/Madrid;VALUE=DATE-TIME:20090319T190000
DTSTAMP;VALUE=DATE-TIME:20260423T121836Z
UID:5f02e05c33628b766aa221e9680319fd
CREATED;VALUE=DATE-TIME:20090319T000000Z
CATEGORIES:Infantils
LOCATION:Biblioteca - Bonaire, 2
ORGANIZER:Biblioteca - Regidoria de Cultura
DESCRIPTION:Conte en anglès a càrrec de Serena
URL:https://arenysdemar.cat/document.php?id=19841
END:VEVENT
END:VCALENDAR