BEGIN:VCALENDAR
VERSION:2.0
PRODID:-//Plone.org//NONSGML plone.app.event//EN
X-WR-TIMEZONE:Europe/Madrid
BEGIN:VEVENT
SUMMARY:M'agrades igual
DTSTART;TZID=Europe/Madrid;VALUE=DATE-TIME:20090310T100000
DTEND;TZID=Europe/Madrid;VALUE=DATE-TIME:20090310T110000
DTSTAMP;VALUE=DATE-TIME:20260424T190131Z
UID:1750b43f0a233434d9e3954265ed29f5
CREATED;VALUE=DATE-TIME:20090310T000000Z
CATEGORIES:Teatre
LOCATION:CEIP Sinera i CEIP Joan Maragall
ORGANIZER:Regidoria de la Dona, CEIP Sinera i CEIP Joan Maragall
COMMENT:Durada: També el 12 de març, de 10 h a 17 h
DESCRIPTION:Sessió de contes il·lustrats sobre la igualtat
URL:https://arenysdemar.cat/document.php?id=19853
END:VEVENT
END:VCALENDAR