BEGIN:VCALENDAR
VERSION:2.0
PRODID:-//Plone.org//NONSGML plone.app.event//EN
X-WR-TIMEZONE:Europe/Madrid
BEGIN:VEVENT
SUMMARY:Ball a l'Ateneu
DTSTART;TZID=Europe/Madrid;VALUE=DATE-TIME:20090308T183000
DTEND;TZID=Europe/Madrid;VALUE=DATE-TIME:20090308T193000
DTSTAMP;VALUE=DATE-TIME:20260420T171732Z
UID:bd8b7a8bcb53059f7a2e369442e5ea70
CREATED;VALUE=DATE-TIME:20090308T000000Z
CATEGORIES:Festa
LOCATION:Ateneu Arenyenc
ORGANIZER:Ateneu Arenyenc
DESCRIPTION:Ball de tarda
URL:https://arenysdemar.cat/document.php?id=19858
END:VEVENT
END:VCALENDAR