BEGIN:VCALENDAR
VERSION:2.0
PRODID:-//Plone.org//NONSGML plone.app.event//EN
X-WR-TIMEZONE:Europe/Madrid
BEGIN:VEVENT
SUMMARY:Ball a l'Ateneu
DTSTART;TZID=Europe/Madrid;VALUE=DATE-TIME:20090314T230000
DTEND;TZID=Europe/Madrid;VALUE=DATE-TIME:20090315T000000
DTSTAMP;VALUE=DATE-TIME:20260423T181441Z
UID:01de2d9fd7784af216441d5bb02cc494
CREATED;VALUE=DATE-TIME:20090314T000000Z
CATEGORIES:Festa
LOCATION:Ateneu Arenyenc
ORGANIZER:Ateneu Arenyenc
DESCRIPTION:amb l'Odisea Grup
URL:https://arenysdemar.cat/document.php?id=19859
END:VEVENT
END:VCALENDAR