BEGIN:VCALENDAR
VERSION:2.0
PRODID:-//Plone.org//NONSGML plone.app.event//EN
X-WR-TIMEZONE:Europe/Madrid
BEGIN:VEVENT
SUMMARY:Curs de Premonitors
DTSTART;TZID=Europe/Madrid;VALUE=DATE-TIME:20090406T093000
DTEND;TZID=Europe/Madrid;VALUE=DATE-TIME:20090406T103000
DTSTAMP;VALUE=DATE-TIME:20260423T212606Z
UID:a96e9fbb3cad1b5aa2404b389b7ab7a3
CREATED;VALUE=DATE-TIME:20090406T000000Z
CATEGORIES:Cursos
LOCATION:Espai Jove del C.C.Calisay - Riera del Pare Fita, 31
ORGANIZER:Regidoria de Joventut i Escola Lliure el Sol
COMMENT:Preu: 40 &euro;
Durada: Fins al 9 d'abril de 2009
DESCRIPTION:Curs d'educació en el lleure
URL:https://arenysdemar.cat/document.php?id=19936
END:VEVENT
END:VCALENDAR