BEGIN:VCALENDAR
VERSION:2.0
PRODID:-//Plone.org//NONSGML plone.app.event//EN
X-WR-TIMEZONE:Europe/Madrid
BEGIN:VEVENT
SUMMARY:Taller de circ
DTSTART;TZID=Europe/Madrid;VALUE=DATE-TIME:20090723T183000
DTEND;TZID=Europe/Madrid;VALUE=DATE-TIME:20090723T193000
DTSTAMP;VALUE=DATE-TIME:20260420T170427Z
UID:8cefea2cef23f7697490dac283c4009d
CREATED;VALUE=DATE-TIME:20090723T000000Z
CATEGORIES:Infantils
LOCATION:Biblioplatja
ORGANIZER:Biblioteca-Regidoria de Cultura
DESCRIPTION:a càrrec de Circ Menut
URL:https://arenysdemar.cat/document.php?id=19937
END:VEVENT
END:VCALENDAR