BEGIN:VCALENDAR
VERSION:2.0
PRODID:-//Plone.org//NONSGML plone.app.event//EN
X-WR-TIMEZONE:Europe/Madrid
BEGIN:VEVENT
SUMMARY:Setmana Cultural de Sant Jordi a l'Escola  de Música
DTSTART;TZID=Europe/Madrid;VALUE=DATE-TIME:20090420T000000
DTEND;TZID=Europe/Madrid;VALUE=DATE-TIME:20090420T010000
DTSTAMP;VALUE=DATE-TIME:20260423T134036Z
UID:76b399df8cf4412c116ecba112de71c0
CREATED;VALUE=DATE-TIME:20090420T000000Z
CATEGORIES:Cinema,Infantils,Música
LOCATION:Escola de música/C.C.Calisay - Riera del Pare Fita, 31
ORGANIZER:Escola Municipal de Música Carles G. Vidiella
COMMENT:Preu: Gratuït
Durada: També els dies 21, 22, 23 i 24 d'abril
URL:https://arenysdemar.cat/document.php?id=19946
END:VEVENT
END:VCALENDAR