BEGIN:VCALENDAR
VERSION:2.0
PRODID:-//Plone.org//NONSGML plone.app.event//EN
X-WR-TIMEZONE:Europe/Madrid
BEGIN:VEVENT
SUMMARY:Gran Ball a l'Ateneu
DTSTART;TZID=Europe/Madrid;VALUE=DATE-TIME:20090411T230000
DTEND;TZID=Europe/Madrid;VALUE=DATE-TIME:20090412T000000
DTSTAMP;VALUE=DATE-TIME:20260420T104338Z
UID:ce369cd9b3568c088e877d0d1de6f9f8
CREATED;VALUE=DATE-TIME:20090411T000000Z
CATEGORIES:Festa
LOCATION:Ateneu Arenyenc
ORGANIZER:Ateneu Arenyenc
DESCRIPTION:a càrrec de l'Odisea Orquestra
URL:https://arenysdemar.cat/document.php?id=19953
END:VEVENT
END:VCALENDAR