BEGIN:VCALENDAR
VERSION:2.0
PRODID:-//Plone.org//NONSGML plone.app.event//EN
X-WR-TIMEZONE:Europe/Madrid
BEGIN:VEVENT
SUMMARY:Ball a l'Ateneu
DTSTART;TZID=Europe/Madrid;VALUE=DATE-TIME:20090412T183000
DTEND;TZID=Europe/Madrid;VALUE=DATE-TIME:20090412T193000
DTSTAMP;VALUE=DATE-TIME:20260420T164850Z
UID:6b7a28503d4985c567ab56222ffbdd83
CREATED;VALUE=DATE-TIME:20090412T000000Z
CATEGORIES:Festa
LOCATION:Ateneu Arenyenc
ORGANIZER:Ateneu Arenyenc
DESCRIPTION:Ball de tarda
URL:https://arenysdemar.cat/document.php?id=19954
END:VEVENT
END:VCALENDAR