BEGIN:VCALENDAR
VERSION:2.0
PRODID:-//Plone.org//NONSGML plone.app.event//EN
X-WR-TIMEZONE:Europe/Madrid
BEGIN:VEVENT
SUMMARY:Festival Artístic
DTSTART;TZID=Europe/Madrid;VALUE=DATE-TIME:20090426T183000
DTEND;TZID=Europe/Madrid;VALUE=DATE-TIME:20090426T193000
DTSTAMP;VALUE=DATE-TIME:20260420T214551Z
UID:d37e541b6f2cb4d774a8c3494a5dd89b
CREATED;VALUE=DATE-TIME:20090426T000000Z
CATEGORIES:Festa
LOCATION:Ateneu Arenyenc
ORGANIZER:Ateneu Arenyenc
URL:https://arenysdemar.cat/document.php?id=19960
END:VEVENT
END:VCALENDAR