BEGIN:VCALENDAR
VERSION:2.0
PRODID:-//Plone.org//NONSGML plone.app.event//EN
X-WR-TIMEZONE:Europe/Madrid
BEGIN:VEVENT
SUMMARY:Crea botons
DTSTART;TZID=Europe/Madrid;VALUE=DATE-TIME:20090426T110000
DTEND;TZID=Europe/Madrid;VALUE=DATE-TIME:20090426T120000
DTSTAMP;VALUE=DATE-TIME:20260420T203243Z
UID:ab63f8bf7a6c72c8dea9c5ab3740f674
CREATED;VALUE=DATE-TIME:20090426T000000Z
CATEGORIES:Mostra
LOCATION:Pati del C.C.Calisay - Riera del Pare Fita, 31
ORGANIZER:Regidoria de Cultura
DESCRIPTION:Taller de botons a càrrec de Victòria Ibars. Acte de cloenda de l'exposició Combinatòria: obrir i tancar
URL:https://arenysdemar.cat/document.php?id=19966
END:VEVENT
END:VCALENDAR