BEGIN:VCALENDAR
VERSION:2.0
PRODID:-//Plone.org//NONSGML plone.app.event//EN
X-WR-TIMEZONE:Europe/Madrid
BEGIN:VEVENT
SUMMARY:Dia del Malalt
DTSTART;TZID=Europe/Madrid;VALUE=DATE-TIME:20090517T090000
DTEND;TZID=Europe/Madrid;VALUE=DATE-TIME:20090517T100000
DTSTAMP;VALUE=DATE-TIME:20260421T011446Z
UID:2141e7c696e619146f7a0415db84750c
CREATED;VALUE=DATE-TIME:20090517T000000Z
CATEGORIES:Festa
LOCATION:Església de Santa Maria - Plaça de l'Església
URL:https://arenysdemar.cat/document.php?id=19981
END:VEVENT
END:VCALENDAR