BEGIN:VCALENDAR
VERSION:2.0
PRODID:-//Plone.org//NONSGML plone.app.event//EN
X-WR-TIMEZONE:Europe/Madrid
BEGIN:VEVENT
SUMMARY:Comissió de Seguiment dels processos de participació
DTSTART;TZID=Europe/Madrid;VALUE=DATE-TIME:20090311T190000
DTEND;TZID=Europe/Madrid;VALUE=DATE-TIME:20090311T200000
DTSTAMP;VALUE=DATE-TIME:20260424T060741Z
UID:93f37e7862800d973ec200432893af2f
CREATED;VALUE=DATE-TIME:20090311T000000Z
LOCATION:Sala gran d'entitats - Riera Pare Fita, 31
ORGANIZER:Regidoria de Participació Ciutadana
COMMENT:Durada: 20:45
DESCRIPTION:Comissió de Seguiment del Pla de Participació i del Pressupost Participatiu
URL:https://arenysdemar.cat/document.php?id=19989
END:VEVENT
END:VCALENDAR