BEGIN:VCALENDAR
VERSION:2.0
PRODID:-//Plone.org//NONSGML plone.app.event//EN
X-WR-TIMEZONE:Europe/Madrid
BEGIN:VEVENT
SUMMARY:Dia internacional del llibre infantil. Hora del Conte
DTSTART;TZID=Europe/Madrid;VALUE=DATE-TIME:20090402T180000
DTEND;TZID=Europe/Madrid;VALUE=DATE-TIME:20090402T190000
DTSTAMP;VALUE=DATE-TIME:20260423T212536Z
UID:0b32b26a416d96e2679c8ad9cff23627
CREATED;VALUE=DATE-TIME:20090402T000000Z
CATEGORIES:Infantils
LOCATION:Biblioteca - Bonaire, 2
ORGANIZER:Biblioteca - Regidoria de Cultura
DESCRIPTION:A càrrec de Joan Bosch
URL:https://arenysdemar.cat/document.php?id=19993
END:VEVENT
END:VCALENDAR