BEGIN:VCALENDAR
VERSION:2.0
PRODID:-//Plone.org//NONSGML plone.app.event//EN
X-WR-TIMEZONE:Europe/Madrid
BEGIN:VEVENT
SUMMARY:Hora del conte
DTSTART;TZID=Europe/Madrid;VALUE=DATE-TIME:20090416T180000
DTEND;TZID=Europe/Madrid;VALUE=DATE-TIME:20090416T190000
DTSTAMP;VALUE=DATE-TIME:20260423T134136Z
UID:ed73473bcc6932e0a62697b40a6ad374
CREATED;VALUE=DATE-TIME:20090416T000000Z
CATEGORIES:Infantils
LOCATION:Biblioteca - Bonaire, 2
ORGANIZER:Biblioteca - Regidoria de Cultura
DESCRIPTION:a càrrec d'Anna Danès
URL:https://arenysdemar.cat/document.php?id=19995
END:VEVENT
END:VCALENDAR