BEGIN:VCALENDAR
VERSION:2.0
PRODID:-//Plone.org//NONSGML plone.app.event//EN
X-WR-TIMEZONE:Europe/Madrid
BEGIN:VEVENT
SUMMARY:Festa de la xarranca
DTSTART;TZID=Europe/Madrid;VALUE=DATE-TIME:20090426T100000
DTEND;TZID=Europe/Madrid;VALUE=DATE-TIME:20090426T110000
DTSTAMP;VALUE=DATE-TIME:20260421T063511Z
UID:9f93e1aa929a52967cfa9c2f3f2e9a0b
CREATED;VALUE=DATE-TIME:20090426T000000Z
CATEGORIES:Festa,Infantils
LOCATION:Ceip Joan Maragall
ORGANIZER:AMPA CEIP Joan Maragall
DESCRIPTION:Trobada familiar de Primavera
URL:https://arenysdemar.cat/document.php?id=20012
END:VEVENT
END:VCALENDAR