BEGIN:VCALENDAR
VERSION:2.0
PRODID:-//Plone.org//NONSGML plone.app.event//EN
X-WR-TIMEZONE:Europe/Madrid
BEGIN:VEVENT
SUMMARY:Plantada de poemes en diferents places del poble
DTSTART;TZID=Europe/Madrid;VALUE=DATE-TIME:20090423T000000
DTEND;TZID=Europe/Madrid;VALUE=DATE-TIME:20090423T010000
DTSTAMP;VALUE=DATE-TIME:20260424T005544Z
UID:d980d3165d695a3a90c50178dfcab223
CREATED;VALUE=DATE-TIME:20090423T000000Z
LOCATION:Places d'Arenys
ORGANIZER:Regidoria d'Educació, Cultura i centres educatius
COMMENT:Durada: Durada fins al dilluns 27 d'abril
DESCRIPTION:a càrrec dels alumnes de tots els centres educatius d'Arenys de Mar
URL:https://arenysdemar.cat/document.php?id=20013
END:VEVENT
END:VCALENDAR