BEGIN:VCALENDAR
VERSION:2.0
PRODID:-//Plone.org//NONSGML plone.app.event//EN
X-WR-TIMEZONE:Europe/Madrid
BEGIN:VEVENT
SUMMARY:Dia Internacional dels Museus
DTSTART;TZID=Europe/Madrid;VALUE=DATE-TIME:20090517T120000
DTEND;TZID=Europe/Madrid;VALUE=DATE-TIME:20090517T130000
DTSTAMP;VALUE=DATE-TIME:20260423T181423Z
UID:3ebda0e4b14acf2455799a6bf1139819
CREATED;VALUE=DATE-TIME:20090517T000000Z
CATEGORIES:Exposició
LOCATION:Museu Marès de la Punta - Església, 41
ORGANIZER:Museu de Arenys de Mar - Reg. de Cultura
COMMENT:Preu: gratüit
DESCRIPTION:Visites guiades i jornada de portes obertes
URL:https://arenysdemar.cat/document.php?id=20078
END:VEVENT
END:VCALENDAR