BEGIN:VCALENDAR
VERSION:2.0
PRODID:-//Plone.org//NONSGML plone.app.event//EN
X-WR-TIMEZONE:Europe/Madrid
BEGIN:VEVENT
SUMMARY:Concert Cançons de la cançó. D'un temps, d'un país
DTSTART;TZID=Europe/Madrid;VALUE=DATE-TIME:20090709T234500
DTEND;TZID=Europe/Madrid;VALUE=DATE-TIME:20090710T004500
DTSTAMP;VALUE=DATE-TIME:20260421T100007Z
UID:26ca95968bb69896f51f112875ce4bdf
CREATED;VALUE=DATE-TIME:20090709T000000Z
CATEGORIES:Música
LOCATION:Plaça de l'Església - Plaça de l'Església
ORGANIZER:Regidoria de Cultura
DESCRIPTION:a càrrec de l'Orquestra de Cambra de l'Empordà i Joanjo Bosk
URL:https://arenysdemar.cat/document.php?id=20116
END:VEVENT
END:VCALENDAR