BEGIN:VCALENDAR
VERSION:2.0
PRODID:-//Plone.org//NONSGML plone.app.event//EN
X-WR-TIMEZONE:Europe/Madrid
BEGIN:VEVENT
SUMMARY:Missa de difuns
DTSTART;TZID=Europe/Madrid;VALUE=DATE-TIME:20090710T190000
DTEND;TZID=Europe/Madrid;VALUE=DATE-TIME:20090710T200000
DTSTAMP;VALUE=DATE-TIME:20260420T024516Z
UID:681d94c6919b66b09654b59539225a0f
CREATED;VALUE=DATE-TIME:20090710T000000Z
LOCATION:Església de Santa Maria - Plaça de l'Església
ORGANIZER:Parròquia de Santa Maria
URL:https://arenysdemar.cat/document.php?id=20117
END:VEVENT
END:VCALENDAR