BEGIN:VCALENDAR
VERSION:2.0
PRODID:-//Plone.org//NONSGML plone.app.event//EN
X-WR-TIMEZONE:Europe/Madrid
BEGIN:VEVENT
SUMMARY:Filosofia: vida i diàleg
DTSTART;TZID=Europe/Madrid;VALUE=DATE-TIME:20090504T180000
DTEND;TZID=Europe/Madrid;VALUE=DATE-TIME:20090504T190000
DTSTAMP;VALUE=DATE-TIME:20260420T233901Z
UID:96078b4e326376b9bd085756c4590426
CREATED;VALUE=DATE-TIME:20090504T000000Z
CATEGORIES:Conferència
LOCATION:Sala Noble del C.C.Calisay - Riera Pare Fita, 31
ORGANIZER:Aula d'Extensió Universitària
COMMENT:Preu: No socis de l'Aula, 15 &euro;
DESCRIPTION:F. Nietzsche. Crítica a la cultura a càrrec d'Andreu Majó, professor de filosofia
URL:https://arenysdemar.cat/document.php?id=20139
END:VEVENT
END:VCALENDAR