BEGIN:VCALENDAR
VERSION:2.0
PRODID:-//Plone.org//NONSGML plone.app.event//EN
X-WR-TIMEZONE:Europe/Madrid
BEGIN:VEVENT
SUMMARY:Filosofia: vida i diàleg
DTSTART;TZID=Europe/Madrid;VALUE=DATE-TIME:20090525T180000
DTEND;TZID=Europe/Madrid;VALUE=DATE-TIME:20090525T190000
DTSTAMP;VALUE=DATE-TIME:20260423T175113Z
UID:72c4f2056de9608b91fa4e3cefb183ac
CREATED;VALUE=DATE-TIME:20090525T000000Z
CATEGORIES:Conferència
LOCATION:Sala Noble del C.C.Calisay - Riera Pare Fita, 31
ORGANIZER:Aula d'Extensió Universitària
COMMENT:Preu: No socis de l'Aula, 15 &euro;
DESCRIPTION:J. Habermas. La raó dialògica a càrrec de Begoña Roman de la Universitat de Barcelona
URL:https://arenysdemar.cat/document.php?id=20152
END:VEVENT
END:VCALENDAR