BEGIN:VCALENDAR
VERSION:2.0
PRODID:-//Plone.org//NONSGML plone.app.event//EN
X-WR-TIMEZONE:Europe/Madrid
BEGIN:VEVENT
SUMMARY:Vespre de castells
DTSTART;TZID=Europe/Madrid;VALUE=DATE-TIME:20090711T203000
DTEND;TZID=Europe/Madrid;VALUE=DATE-TIME:20090711T213000
DTSTAMP;VALUE=DATE-TIME:20260420T102759Z
UID:7fe44825277cd4c959694e08df270ebf
CREATED;VALUE=DATE-TIME:20090711T000000Z
CATEGORIES:Festa
LOCATION:Plaça de l'Església - Plaça de l'Església
ORGANIZER:Reg. Cultura
DESCRIPTION:amb la Colla Capgrossos de Mataró
URL:https://arenysdemar.cat/document.php?id=20202
END:VEVENT
END:VCALENDAR