BEGIN:VCALENDAR
VERSION:2.0
PRODID:-//Plone.org//NONSGML plone.app.event//EN
X-WR-TIMEZONE:Europe/Madrid
BEGIN:VEVENT
SUMMARY:Festa al carrer Sant Pere
DTSTART;TZID=Europe/Madrid;VALUE=DATE-TIME:20090627T000000
DTEND;TZID=Europe/Madrid;VALUE=DATE-TIME:20090627T010000
DTSTAMP;VALUE=DATE-TIME:20260423T212852Z
UID:00c026bbe78d437c37a6f869f932798a
CREATED;VALUE=DATE-TIME:20090627T000000Z
CATEGORIES:Festa
LOCATION:al carrer Sant Pere
ORGANIZER:Comissió de festes del carrer Sant Pere
URL:https://arenysdemar.cat/document.php?id=20255
END:VEVENT
END:VCALENDAR