BEGIN:VCALENDAR
VERSION:2.0
PRODID:-//Plone.org//NONSGML plone.app.event//EN
X-WR-TIMEZONE:Europe/Madrid
BEGIN:VEVENT
SUMMARY:Teatre : Volem anar al Tibidabo
DTSTART;TZID=Europe/Madrid;VALUE=DATE-TIME:20091101T190000
DTEND;TZID=Europe/Madrid;VALUE=DATE-TIME:20091101T200000
DTSTAMP;VALUE=DATE-TIME:20260423T145433Z
UID:57129648bc79b40f853c976aef233bc9
CREATED;VALUE=DATE-TIME:20091101T000000Z
CATEGORIES:Teatre
LOCATION:Teatre Principal - C. Església, 45-47
ORGANIZER:SC L'Esperança i Regidoria de Cultura
COMMENT:Preu: 10 &euro;
DESCRIPTION:A càrrec de Flyhard Teatre
URL:https://arenysdemar.cat/document.php?id=20266
END:VEVENT
END:VCALENDAR