BEGIN:VCALENDAR
VERSION:2.0
PRODID:-//Plone.org//NONSGML plone.app.event//EN
X-WR-TIMEZONE:Europe/Madrid
BEGIN:VEVENT
SUMMARY:Mostra de Cant Coral
DTSTART;TZID=Europe/Madrid;VALUE=DATE-TIME:20091122T190000
DTEND;TZID=Europe/Madrid;VALUE=DATE-TIME:20091122T200000
DTSTAMP;VALUE=DATE-TIME:20260422T023823Z
UID:7f4efa921eb66f8f0c0a86be62911c4b
CREATED;VALUE=DATE-TIME:20091122T000000Z
CATEGORIES:Música
LOCATION:Teatre Principal - C. Església, 45-47
ORGANIZER:SC L'Esperança - Regidoria de Cultura
COMMENT:Preu: 2 &euro;
DESCRIPTION:A càrrec de Coral L'Esperança + Corals convidades
URL:https://arenysdemar.cat/document.php?id=20269
END:VEVENT
END:VCALENDAR