BEGIN:VCALENDAR
VERSION:2.0
PRODID:-//Plone.org//NONSGML plone.app.event//EN
X-WR-TIMEZONE:Europe/Madrid
BEGIN:VEVENT
SUMMARY:Teatre familiar : Efecte Doppler
DTSTART;TZID=Europe/Madrid;VALUE=DATE-TIME:20091213T180000
DTEND;TZID=Europe/Madrid;VALUE=DATE-TIME:20091213T190000
DTSTAMP;VALUE=DATE-TIME:20260423T145307Z
UID:ef98698f904b7b7a0e4daa106688d9d3
CREATED;VALUE=DATE-TIME:20091213T000000Z
CATEGORIES:Infantils,Teatre
LOCATION:Teatre Principal - C. Església, 45-47
ORGANIZER:SC L'Esperança i Regidoria de Cultura
COMMENT:Preu: 5 &euro;
DESCRIPTION:A càrrec de la Cia. Cirkonita
URL:https://arenysdemar.cat/document.php?id=20273
END:VEVENT
END:VCALENDAR