BEGIN:VCALENDAR
VERSION:2.0
PRODID:-//Plone.org//NONSGML plone.app.event//EN
X-WR-TIMEZONE:Europe/Madrid
BEGIN:VEVENT
SUMMARY:Concert de Nadal
DTSTART;TZID=Europe/Madrid;VALUE=DATE-TIME:20091220T190000
DTEND;TZID=Europe/Madrid;VALUE=DATE-TIME:20091220T200000
DTSTAMP;VALUE=DATE-TIME:20260422T010708Z
UID:34c5e9d5f353c6dbcfb1e4203cd09c32
CREATED;VALUE=DATE-TIME:20091220T000000Z
CATEGORIES:Música
LOCATION:Teatre Principal - C. Església, 45-47
ORGANIZER:SC L'Esperança - Ràdio Arenys - Regidoria de Cultura
COMMENT:Preu: 2 &euro;
DESCRIPTION:A càrrec de Raquel Xiberta & Nadal Sextet
URL:https://arenysdemar.cat/document.php?id=20275
END:VEVENT
END:VCALENDAR