BEGIN:VCALENDAR
VERSION:2.0
PRODID:-//Plone.org//NONSGML plone.app.event//EN
X-WR-TIMEZONE:Europe/Madrid
BEGIN:VEVENT
SUMMARY:Mozart, ets un geni!
DTSTART;TZID=Europe/Madrid;VALUE=DATE-TIME:20090622T200000
DTEND;TZID=Europe/Madrid;VALUE=DATE-TIME:20090622T210000
DTSTAMP;VALUE=DATE-TIME:20260420T152338Z
UID:17de457f724fa41dac7b27733ae4cafc
CREATED;VALUE=DATE-TIME:20090622T000000Z
CATEGORIES:Música
LOCATION:Teatre Principal - C. Església, 45-47
ORGANIZER:Escola Municipal de Música d'Arenys de Mar
COMMENT:Preu: Gratuït
DESCRIPTION:Concert de Cant Coral de Final de Curs
URL:https://arenysdemar.cat/document.php?id=20285
END:VEVENT
END:VCALENDAR