BEGIN:VCALENDAR
VERSION:2.0
PRODID:-//Plone.org//NONSGML plone.app.event//EN
X-WR-TIMEZONE:Europe/Madrid
BEGIN:VEVENT
SUMMARY:Tertúlia literària: De part de la princesa morta de Kenizé Mourad
DTSTART;TZID=Europe/Madrid;VALUE=DATE-TIME:20090620T000000
DTEND;TZID=Europe/Madrid;VALUE=DATE-TIME:20090620T010000
DTSTAMP;VALUE=DATE-TIME:20260423T164517Z
UID:572492545b55ee60376fd115620e5ef1
CREATED;VALUE=DATE-TIME:20090620T000000Z
CATEGORIES:Literatura
LOCATION:Istanbul (Turquia)
ORGANIZER:Biblioteca- Regidoria de Cultura- Sakkara viatges
COMMENT:Durada: Del dissabte 20 al dimecres 24 de juny
DESCRIPTION:i viatge a la ciutat d´Istanbul
URL:https://arenysdemar.cat/document.php?id=20292
END:VEVENT
END:VCALENDAR