BEGIN:VCALENDAR
VERSION:2.0
PRODID:-//Plone.org//NONSGML plone.app.event//EN
X-WR-TIMEZONE:Europe/Madrid
BEGIN:VEVENT
SUMMARY:Curs : Les comunitats de propietaris
DTSTART;TZID=Europe/Madrid;VALUE=DATE-TIME:20090605T190000
DTEND;TZID=Europe/Madrid;VALUE=DATE-TIME:20090605T200000
DTSTAMP;VALUE=DATE-TIME:20260423T002425Z
UID:8bd619cb57c64b0ec882634d8964a79d
CREATED;VALUE=DATE-TIME:20090605T000000Z
CATEGORIES:Cursos
LOCATION:Sala gran d'entitats - Riera Pare Fita, 31
ORGANIZER:Regidoria Participació i imparteix: CONFAVC-CEIRV
COMMENT:Preu: Gratuït
Durada: 21h
DESCRIPTION:Pla de formació associativa
URL:https://arenysdemar.cat/document.php?id=20301
END:VEVENT
END:VCALENDAR