BEGIN:VCALENDAR
VERSION:2.0
PRODID:-//Plone.org//NONSGML plone.app.event//EN
X-WR-TIMEZONE:Europe/Madrid
BEGIN:VEVENT
SUMMARY:Exhibició Grafittis
DTSTART;TZID=Europe/Madrid;VALUE=DATE-TIME:20090627T000000
DTEND;TZID=Europe/Madrid;VALUE=DATE-TIME:20090627T010000
DTSTAMP;VALUE=DATE-TIME:20260420T164959Z
UID:6fadcc6a06ca2d3eb57190aa0107a045
CREATED;VALUE=DATE-TIME:20090627T000000Z
CATEGORIES:Festa
LOCATION:Per determinar
ORGANIZER:Regidoria de Joventut
URL:https://arenysdemar.cat/document.php?id=20308
END:VEVENT
END:VCALENDAR