BEGIN:VCALENDAR
VERSION:2.0
PRODID:-//Plone.org//NONSGML plone.app.event//EN
X-WR-TIMEZONE:Europe/Madrid
BEGIN:VEVENT
SUMMARY:Documental-col·loqui sobre Medi Ambient
DTSTART;TZID=Europe/Madrid;VALUE=DATE-TIME:20090607T113000
DTEND;TZID=Europe/Madrid;VALUE=DATE-TIME:20090607T123000
DTSTAMP;VALUE=DATE-TIME:20260420T220911Z
UID:b9a08fefd47fb80f2445cdffad465f11
CREATED;VALUE=DATE-TIME:20090607T000000Z
CATEGORIES:Cinema
LOCATION:Sala Noble del C.C.Calisay - Riera Pare Fita, 31
ORGANIZER:Regidoria de Medi Ambient
COMMENT:Preu: Gratuït
Durada: Fins a les 13:30 h
DESCRIPTION:Celebració del Dia Mundial del Medi Ambient
URL:https://arenysdemar.cat/document.php?id=20328
END:VEVENT
END:VCALENDAR