BEGIN:VCALENDAR
VERSION:2.0
PRODID:-//Plone.org//NONSGML plone.app.event//EN
X-WR-TIMEZONE:Europe/Madrid
BEGIN:VEVENT
SUMMARY:Tallers d'educació ambiental
DTSTART;TZID=Europe/Madrid;VALUE=DATE-TIME:20090607T103000
DTEND;TZID=Europe/Madrid;VALUE=DATE-TIME:20090607T113000
DTSTAMP;VALUE=DATE-TIME:20260423T231230Z
UID:06c9d71596641a7de54dccf89ca1d728
CREATED;VALUE=DATE-TIME:20090607T000000Z
CATEGORIES:Festa
LOCATION:Pati del C.C.Calisay - Riera del Pare Fita, 31
ORGANIZER:Regidoria de Medi Ambient
COMMENT:Preu: Gratuït
Durada: De 10:30 a 13:30 h
DESCRIPTION:Celebració del Dia Mundial del Medi Ambient
URL:https://arenysdemar.cat/document.php?id=20331
END:VEVENT
END:VCALENDAR