BEGIN:VCALENDAR
VERSION:2.0
PRODID:-//Plone.org//NONSGML plone.app.event//EN
X-WR-TIMEZONE:Europe/Madrid
BEGIN:VEVENT
SUMMARY:Torneig de billar interclubs
DTSTART;TZID=Europe/Madrid;VALUE=DATE-TIME:20090719T100000
DTEND;TZID=Europe/Madrid;VALUE=DATE-TIME:20090719T110000
DTSTAMP;VALUE=DATE-TIME:20260421T082918Z
UID:1bcec261dc89f4ed5aa15c3ac2f9f6e0
CREATED;VALUE=DATE-TIME:20090719T000000Z
CATEGORIES:Esports
LOCATION:Ateneu Arenyenc - Josep Anselm Clavé, 22
ORGANIZER:Ateneu Arenyenc
URL:https://arenysdemar.cat/document.php?id=20409
END:VEVENT
END:VCALENDAR