BEGIN:VCALENDAR
VERSION:2.0
PRODID:-//Plone.org//NONSGML plone.app.event//EN
X-WR-TIMEZONE:Europe/Madrid
BEGIN:VEVENT
SUMMARY:Plantació de vegetació de sorra a la platja del Cavaió
DTSTART;TZID=Europe/Madrid;VALUE=DATE-TIME:20090606T090000
DTEND;TZID=Europe/Madrid;VALUE=DATE-TIME:20090606T100000
DTSTAMP;VALUE=DATE-TIME:20260423T182722Z
UID:98e6bf3eda7ac0ad3580b02b8ea8fc00
CREATED;VALUE=DATE-TIME:20090606T000000Z
LOCATION:Platja del Cavaió (Portinyol) Punt de trobada
URL:https://arenysdemar.cat/document.php?id=20426
END:VEVENT
END:VCALENDAR