BEGIN:VCALENDAR
VERSION:2.0
PRODID:-//Plone.org//NONSGML plone.app.event//EN
X-WR-TIMEZONE:Europe/Madrid
BEGIN:VEVENT
SUMMARY:La Traviata (Òpera)
DTSTART;TZID=Europe/Madrid;VALUE=DATE-TIME:20090630T200000
DTEND;TZID=Europe/Madrid;VALUE=DATE-TIME:20090630T210000
DTSTAMP;VALUE=DATE-TIME:20260420T203709Z
UID:7505047af8879721b1352eabcfd9911e
CREATED;VALUE=DATE-TIME:20090630T000000Z
CATEGORIES:Cinema
LOCATION:Teatre Principal - C. Església, 45-47
ORGANIZER:SC L'Esperança - Regidoria de Cultura
COMMENT:Preu: 15 &euro;
DESCRIPTION:En directe, via satèl·lit, des de la Royal Opera House de Londres
URL:https://arenysdemar.cat/document.php?id=20427
END:VEVENT
END:VCALENDAR