BEGIN:VCALENDAR
VERSION:2.0
PRODID:-//Plone.org//NONSGML plone.app.event//EN
X-WR-TIMEZONE:Europe/Madrid
BEGIN:VEVENT
SUMMARY:II Baixada de carretons
DTSTART;TZID=Europe/Madrid;VALUE=DATE-TIME:20090705T120000
DTEND;TZID=Europe/Madrid;VALUE=DATE-TIME:20090705T130000
DTSTAMP;VALUE=DATE-TIME:20260422T060822Z
UID:e5f7e95f64fc13c0b36c794dd8ba6633
CREATED;VALUE=DATE-TIME:20090705T000000Z
CATEGORIES:Festa
LOCATION:Baixada del Parc de Lourdes
ORGANIZER:Consell de Joves i Regidoria d'Infància i Joventut
URL:https://arenysdemar.cat/document.php?id=20452
END:VEVENT
END:VCALENDAR