BEGIN:VCALENDAR
VERSION:2.0
PRODID:-//Plone.org//NONSGML plone.app.event//EN
X-WR-TIMEZONE:Europe/Madrid
BEGIN:VEVENT
SUMMARY:XIVª Milla Urbana d'Arenys de Mar
DTSTART;TZID=Europe/Madrid;VALUE=DATE-TIME:20090718T190000
DTEND;TZID=Europe/Madrid;VALUE=DATE-TIME:20090718T200000
DTSTAMP;VALUE=DATE-TIME:20260423T214541Z
UID:210fcde12e2891e01fda69aeed90cb4a
CREATED;VALUE=DATE-TIME:20090718T000000Z
CATEGORIES:Esports
LOCATION:Riera (entre el carrer de l'Hospital i el carrer Olivar)
ORGANIZER:Regidoria d'Esports
URL:https://arenysdemar.cat/document.php?id=20467
END:VEVENT
END:VCALENDAR