BEGIN:VCALENDAR
VERSION:2.0
PRODID:-//Plone.org//NONSGML plone.app.event//EN
X-WR-TIMEZONE:Europe/Madrid
BEGIN:VEVENT
SUMMARY:Taller de Cuina per infants
DTSTART;TZID=Europe/Madrid;VALUE=DATE-TIME:20090814T180000
DTEND;TZID=Europe/Madrid;VALUE=DATE-TIME:20090814T190000
DTSTAMP;VALUE=DATE-TIME:20260424T010027Z
UID:b69ee346692731e92b50ea5bd3f1ec1a
CREATED;VALUE=DATE-TIME:20090814T000000Z
LOCATION:Biblioplaça
ORGANIZER:Biblioteca - Regidoria de Cultura
DESCRIPTION:a càrrec de Rosario Montoza, cuinera
URL:https://arenysdemar.cat/document.php?id=20511
END:VEVENT
END:VCALENDAR