BEGIN:VCALENDAR
VERSION:2.0
PRODID:-//Plone.org//NONSGML plone.app.event//EN
X-WR-TIMEZONE:Europe/Madrid
BEGIN:VEVENT
SUMMARY:Concert de cant coral
DTSTART;TZID=Europe/Madrid;VALUE=DATE-TIME:20090920T183000
DTEND;TZID=Europe/Madrid;VALUE=DATE-TIME:20090920T193000
DTSTAMP;VALUE=DATE-TIME:20260424T043142Z
UID:b1277c267f71de3b6454064f51fb6580
CREATED;VALUE=DATE-TIME:20090920T000000Z
CATEGORIES:Música
LOCATION:Ateneu Arenyenc
ORGANIZER:Ateneu Arenyenc
DESCRIPTION:a càrrec de l'Associació de Jubilats i Pensionistes d'Esparraguera
URL:https://arenysdemar.cat/document.php?id=20561
END:VEVENT
END:VCALENDAR