BEGIN:VCALENDAR
VERSION:2.0
PRODID:-//Plone.org//NONSGML plone.app.event//EN
X-WR-TIMEZONE:Europe/Madrid
BEGIN:VEVENT
SUMMARY:Imatges d'un record
DTSTART;TZID=Europe/Madrid;VALUE=DATE-TIME:20091003T190000
DTEND;TZID=Europe/Madrid;VALUE=DATE-TIME:20091003T200000
DTSTAMP;VALUE=DATE-TIME:20260422T005048Z
UID:05c233e605cfdea9bbbb0730f27cf2af
CREATED;VALUE=DATE-TIME:20091003T000000Z
LOCATION:Sala exposicions Lloveras - C. Sant Antoni, s/n
ORGANIZER:Regidoria de Cultura
COMMENT:Durada: Fins al 25 d'octubre de 2009
DESCRIPTION:Exposició de pintura a càrrec d'Alfredo Reig
URL:https://arenysdemar.cat/document.php?id=20579
END:VEVENT
END:VCALENDAR