BEGIN:VCALENDAR
VERSION:2.0
PRODID:-//Plone.org//NONSGML plone.app.event//EN
X-WR-TIMEZONE:Europe/Madrid
BEGIN:VEVENT
SUMMARY:Concurs de fotografies : Espurnes de felicitat
DTSTART;TZID=Europe/Madrid;VALUE=DATE-TIME:20090901T000000
DTEND;TZID=Europe/Madrid;VALUE=DATE-TIME:20090901T010000
DTSTAMP;VALUE=DATE-TIME:20260421T050133Z
UID:9cfe7e7db4c2c785040e5b273c8948be
CREATED;VALUE=DATE-TIME:20090901T000000Z
ORGANIZER:Associació de Dones per la Igualtat
COMMENT:Durada: Fins al 25 de setembre a la Regidoria de cultura
DESCRIPTION:Tema: Què es la felicitat per a tu
URL:https://arenysdemar.cat/document.php?id=20583
END:VEVENT
END:VCALENDAR