BEGIN:VCALENDAR
VERSION:2.0
PRODID:-//Plone.org//NONSGML plone.app.event//EN
X-WR-TIMEZONE:Europe/Madrid
BEGIN:VEVENT
SUMMARY:Sortida: La Barcelona literària de Carlos Ruiz Zafon.
DTSTART;TZID=Europe/Madrid;VALUE=DATE-TIME:20091017T090000
DTEND;TZID=Europe/Madrid;VALUE=DATE-TIME:20091017T100000
DTSTAMP;VALUE=DATE-TIME:20260420T141436Z
UID:b9357148416127a73aaa7897c9834778
CREATED;VALUE=DATE-TIME:20091017T000000Z
CATEGORIES:Conferència
LOCATION:Sortida des del Calisay
ORGANIZER:Biblioteca &ndash; Regidoria de Cultura
COMMENT:Preu: gratuït
Durada: tornada cap a les 14:00
DESCRIPTION:Visita guiada pels carrers de Barcelona protagonistes de la novel&bull;la l´Ombra del vent.
URL:https://arenysdemar.cat/document.php?id=20590
END:VEVENT
END:VCALENDAR