BEGIN:VCALENDAR
VERSION:2.0
PRODID:-//Plone.org//NONSGML plone.app.event//EN
X-WR-TIMEZONE:Europe/Madrid
BEGIN:VEVENT
SUMMARY:Trobada anual d'esbarts veterans
DTSTART;TZID=Europe/Madrid;VALUE=DATE-TIME:20091004T181500
DTEND;TZID=Europe/Madrid;VALUE=DATE-TIME:20091004T191500
DTSTAMP;VALUE=DATE-TIME:20260421T154823Z
UID:382a0f84e3cf2210379fbc01eb375c6e
CREATED;VALUE=DATE-TIME:20091004T000000Z
CATEGORIES:Dansa
LOCATION:Casal de joventut Seràfica
ORGANIZER:Esbart Maragall
URL:https://arenysdemar.cat/document.php?id=20684
END:VEVENT
END:VCALENDAR