BEGIN:VCALENDAR
VERSION:2.0
PRODID:-//Plone.org//NONSGML plone.app.event//EN
X-WR-TIMEZONE:Europe/Madrid
BEGIN:VEVENT
SUMMARY:Obertura del Curs 2009-2010
DTSTART;TZID=Europe/Madrid;VALUE=DATE-TIME:20091006T180000
DTEND;TZID=Europe/Madrid;VALUE=DATE-TIME:20091006T190000
DTSTAMP;VALUE=DATE-TIME:20260421T182557Z
UID:d0630e759ab9609bf46be1b0f85cb896
CREATED;VALUE=DATE-TIME:20091006T000000Z
CATEGORIES:Conferència
LOCATION:Teatre Principal - C. Església, 45-47
ORGANIZER:Aula d'Extensió Universitària
DESCRIPTION:Parlament del Dr. Josep Torrellas, de la Universitat de Girona, i recital de Cor Adàmaris
URL:https://arenysdemar.cat/document.php?id=20686
END:VEVENT
END:VCALENDAR