BEGIN:VCALENDAR
VERSION:2.0
PRODID:-//Plone.org//NONSGML plone.app.event//EN
X-WR-TIMEZONE:Europe/Madrid
BEGIN:VEVENT
SUMMARY:Exposició de pintures i fotografies: HiperMerc'art
DTSTART;TZID=Europe/Madrid;VALUE=DATE-TIME:20091002T200000
DTEND;TZID=Europe/Madrid;VALUE=DATE-TIME:20091002T210000
DTSTAMP;VALUE=DATE-TIME:20260421T050203Z
UID:3bfc382ed252d0192d2ef2c890e3928e
CREATED;VALUE=DATE-TIME:20091002T000000Z
CATEGORIES:Exposició
LOCATION:Sala Exposicions del C.C.Calisay - Riera del Pare Fita, 31
ORGANIZER:Regidoria de Cultura
COMMENT:Durada: fins al 25 d'octubre
DESCRIPTION:a càrrec de la Secció de Pintura de l'Aula Cultural d'Arenys de Munt, les Agrupacions Fotogràfiques d'Arenys de Mar i Arenys de Munt i el Grup Mitjanit
URL:https://arenysdemar.cat/document.php?id=20697
END:VEVENT
END:VCALENDAR