BEGIN:VCALENDAR
VERSION:2.0
PRODID:-//Plone.org//NONSGML plone.app.event//EN
X-WR-TIMEZONE:Europe/Madrid
BEGIN:VEVENT
SUMMARY:Hora del conte
DTSTART;TZID=Europe/Madrid;VALUE=DATE-TIME:20091015T180000
DTEND;TZID=Europe/Madrid;VALUE=DATE-TIME:20091015T190000
DTSTAMP;VALUE=DATE-TIME:20260421T015458Z
UID:aba08b9799c6d4ccfd6a7b6e9b843b35
CREATED;VALUE=DATE-TIME:20091015T000000Z
CATEGORIES:Infantils
LOCATION:Biblioteca - Bonaire, 2
ORGANIZER:BIblioteca - Regidoria de Cultura
URL:https://arenysdemar.cat/document.php?id=20698
END:VEVENT
END:VCALENDAR