BEGIN:VCALENDAR
VERSION:2.0
PRODID:-//Plone.org//NONSGML plone.app.event//EN
X-WR-TIMEZONE:Europe/Madrid
BEGIN:VEVENT
SUMMARY:Hora del conte
DTSTART;TZID=Europe/Madrid;VALUE=DATE-TIME:20091022T180000
DTEND;TZID=Europe/Madrid;VALUE=DATE-TIME:20091022T190000
DTSTAMP;VALUE=DATE-TIME:20260421T182526Z
UID:b46862d1aa1c071b05551db0cf379969
CREATED;VALUE=DATE-TIME:20091022T000000Z
CATEGORIES:Infantils
LOCATION:Biblioteca - Bonaire, 2
ORGANIZER:Biblioteca - Regidoria de Cultura
URL:https://arenysdemar.cat/document.php?id=20699
END:VEVENT
END:VCALENDAR